Workbook

Sheet Takımlar
A1: SahaKadro Turnuva Şablonu
A2: Takım adlarını sarı hücrelere yaz; Fikstür ve Puan Cetveli sayfaları kendiliğinden dolar.
A4: No | B4: Takım adı
A5: 1 | B5: Kartallar | C5: ← örnek; üzerine kendi takımını yaz
A6: 2
A7: 3
A8: 4
A9: 5
A10: 6
A11: 7
A12: 8
A14: Sarı hücreler: senin dolduracağın alanlar. Diğer hücreler formüllerle kendiliğinden hesaplanır.
A15: 6 takımlı turnuvada yalnızca 1-6 numaralı takımları doldur; 7-8'i boş bırak.
A16: Kaynak ve kurallar: sahakadro.com/rehber/halisaha-turnuva-fiksturu/

Sheet Fikstür
A1: 6 takımlı tek devreli lig (5 tur, 15 maç)
A2: Tur | B2: Ev sahibi | C2: Skor | D2: Skor | E2: Deplasman
A3: 1. tur | B3: =IF(Takımlar!$B$5="","Takım 1",Takımlar!$B$5) | E3: =IF(Takımlar!$B$10="","Takım 6",Takımlar!$B$10)
A4: 1. tur | B4: =IF(Takımlar!$B$6="","Takım 2",Takımlar!$B$6) | E4: =IF(Takımlar!$B$9="","Takım 5",Takımlar!$B$9)
A5: 1. tur | B5: =IF(Takımlar!$B$7="","Takım 3",Takımlar!$B$7) | E5: =IF(Takımlar!$B$8="","Takım 4",Takımlar!$B$8)
A6: 2. tur | B6: =IF(Takımlar!$B$5="","Takım 1",Takımlar!$B$5) | E6: =IF(Takımlar!$B$9="","Takım 5",Takımlar!$B$9)
A7: 2. tur | B7: =IF(Takımlar!$B$10="","Takım 6",Takımlar!$B$10) | E7: =IF(Takımlar!$B$8="","Takım 4",Takımlar!$B$8)
A8: 2. tur | B8: =IF(Takımlar!$B$6="","Takım 2",Takımlar!$B$6) | E8: =IF(Takımlar!$B$7="","Takım 3",Takımlar!$B$7)
A9: 3. tur | B9: =IF(Takımlar!$B$5="","Takım 1",Takımlar!$B$5) | E9: =IF(Takımlar!$B$8="","Takım 4",Takımlar!$B$8)
A10: 3. tur | B10: =IF(Takımlar!$B$9="","Takım 5",Takımlar!$B$9) | E10: =IF(Takımlar!$B$7="","Takım 3",Takımlar!$B$7)
A11: 3. tur | B11: =IF(Takımlar!$B$10="","Takım 6",Takımlar!$B$10) | E11: =IF(Takımlar!$B$6="","Takım 2",Takımlar!$B$6)
A12: 4. tur | B12: =IF(Takımlar!$B$5="","Takım 1",Takımlar!$B$5) | E12: =IF(Takımlar!$B$7="","Takım 3",Takımlar!$B$7)
A13: 4. tur | B13: =IF(Takımlar!$B$8="","Takım 4",Takımlar!$B$8) | E13: =IF(Takımlar!$B$6="","Takım 2",Takımlar!$B$6)
A14: 4. tur | B14: =IF(Takımlar!$B$9="","Takım 5",Takımlar!$B$9) | E14: =IF(Takımlar!$B$10="","Takım 6",Takımlar!$B$10)
A15: 5. tur | B15: =IF(Takımlar!$B$5="","Takım 1",Takımlar!$B$5) | E15: =IF(Takımlar!$B$6="","Takım 2",Takımlar!$B$6)
A16: 5. tur | B16: =IF(Takımlar!$B$7="","Takım 3",Takımlar!$B$7) | E16: =IF(Takımlar!$B$10="","Takım 6",Takımlar!$B$10)
A17: 5. tur | B17: =IF(Takımlar!$B$8="","Takım 4",Takımlar!$B$8) | E17: =IF(Takımlar!$B$9="","Takım 5",Takımlar!$B$9)
A20: 8 takımlı tek devreli lig (7 tur, 28 maç)
A21: Tur | B21: Ev sahibi | C21: Skor | D21: Skor | E21: Deplasman
A22: 1. tur | B22: =IF(Takımlar!$B$5="","Takım 1",Takımlar!$B$5) | E22: =IF(Takımlar!$B$12="","Takım 8",Takımlar!$B$12)
A23: 1. tur | B23: =IF(Takımlar!$B$6="","Takım 2",Takımlar!$B$6) | E23: =IF(Takımlar!$B$11="","Takım 7",Takımlar!$B$11)
A24: 1. tur | B24: =IF(Takımlar!$B$7="","Takım 3",Takımlar!$B$7) | E24: =IF(Takımlar!$B$10="","Takım 6",Takımlar!$B$10)
A25: 1. tur | B25: =IF(Takımlar!$B$8="","Takım 4",Takımlar!$B$8) | E25: =IF(Takımlar!$B$9="","Takım 5",Takımlar!$B$9)
A26: 2. tur | B26: =IF(Takımlar!$B$5="","Takım 1",Takımlar!$B$5) | E26: =IF(Takımlar!$B$11="","Takım 7",Takımlar!$B$11)
A27: 2. tur | B27: =IF(Takımlar!$B$12="","Takım 8",Takımlar!$B$12) | E27: =IF(Takımlar!$B$10="","Takım 6",Takımlar!$B$10)
A28: 2. tur | B28: =IF(Takımlar!$B$6="","Takım 2",Takımlar!$B$6) | E28: =IF(Takımlar!$B$9="","Takım 5",Takımlar!$B$9)
A29: 2. tur | B29: =IF(Takımlar!$B$7="","Takım 3",Takımlar!$B$7) | E29: =IF(Takımlar!$B$8="","Takım 4",Takımlar!$B$8)
A30: 3. tur | B30: =IF(Takımlar!$B$5="","Takım 1",Takımlar!$B$5) | E30: =IF(Takımlar!$B$10="","Takım 6",Takımlar!$B$10)
A31: 3. tur | B31: =IF(Takımlar!$B$11="","Takım 7",Takımlar!$B$11) | E31: =IF(Takımlar!$B$9="","Takım 5",Takımlar!$B$9)
A32: 3. tur | B32: =IF(Takımlar!$B$12="","Takım 8",Takımlar!$B$12) | E32: =IF(Takımlar!$B$8="","Takım 4",Takımlar!$B$8)
A33: 3. tur | B33: =IF(Takımlar!$B$6="","Takım 2",Takımlar!$B$6) | E33: =IF(Takımlar!$B$7="","Takım 3",Takımlar!$B$7)
A34: 4. tur | B34: =IF(Takımlar!$B$5="","Takım 1",Takımlar!$B$5) | E34: =IF(Takımlar!$B$9="","Takım 5",Takımlar!$B$9)
A35: 4. tur | B35: =IF(Takımlar!$B$10="","Takım 6",Takımlar!$B$10) | E35: =IF(Takımlar!$B$8="","Takım 4",Takımlar!$B$8)
A36: 4. tur | B36: =IF(Takımlar!$B$11="","Takım 7",Takımlar!$B$11) | E36: =IF(Takımlar!$B$7="","Takım 3",Takımlar!$B$7)
A37: 4. tur | B37: =IF(Takımlar!$B$12="","Takım 8",Takımlar!$B$12) | E37: =IF(Takımlar!$B$6="","Takım 2",Takımlar!$B$6)
A38: 5. tur | B38: =IF(Takımlar!$B$5="","Takım 1",Takımlar!$B$5) | E38: =IF(Takımlar!$B$8="","Takım 4",Takımlar!$B$8)
A39: 5. tur | B39: =IF(Takımlar!$B$9="","Takım 5",Takımlar!$B$9) | E39: =IF(Takımlar!$B$7="","Takım 3",Takımlar!$B$7)
A40: 5. tur | B40: =IF(Takımlar!$B$10="","Takım 6",Takımlar!$B$10) | E40: =IF(Takımlar!$B$6="","Takım 2",Takımlar!$B$6)
A41: 5. tur | B41: =IF(Takımlar!$B$11="","Takım 7",Takımlar!$B$11) | E41: =IF(Takımlar!$B$12="","Takım 8",Takımlar!$B$12)
A42: 6. tur | B42: =IF(Takımlar!$B$5="","Takım 1",Takımlar!$B$5) | E42: =IF(Takımlar!$B$7="","Takım 3",Takımlar!$B$7)
...

Sheet Puan Cetveli
A1: Puan Cetveli
A2: G, B, M, AG ve YG sütunlarını (sarı) her maçtan sonra güncelle; O, Averaj ve Puan kendiliğinden hesaplanır.
A4: Takım | B4: O | C4: G | D4: B | E4: M | F4: AG | G4: YG | H4: Averaj | I4: Puan
A5: =IF(Takımlar!$B$5="","Takım 1",Takımlar!$B$5) | B5: =C5+D5+E5 | H5: =F5-G5 | I5: =3*C5+D5
A6: =IF(Takımlar!$B$6="","Takım 2",Takımlar!$B$6) | B6: =C6+D6+E6 | H6: =F6-G6 | I6: =3*C6+D6
A7: =IF(Takımlar!$B$7="","Takım 3",Takımlar!$B$7) | B7: =C7+D7+E7 | H7: =F7-G7 | I7: =3*C7+D7
A8: =IF(Takımlar!$B$8="","Takım 4",Takımlar!$B$8) | B8: =C8+D8+E8 | H8: =F8-G8 | I8: =3*C8+D8
A9: =IF(Takımlar!$B$9="","Takım 5",Takımlar!$B$9) | B9: =C9+D9+E9 | H9: =F9-G9 | I9: =3*C9+D9
A10: =IF(Takımlar!$B$10="","Takım 6",Takımlar!$B$10) | B10: =C10+D10+E10 | H10: =F10-G10 | I10: =3*C10+D10
A11: =IF(Takımlar!$B$11="","Takım 7",Takımlar!$B$11) | B11: =C11+D11+E11 | H11: =F11-G11 | I11: =3*C11+D11
A12: =IF(Takımlar!$B$12="","Takım 8",Takımlar!$B$12) | B12: =C12+D12+E12 | H12: =F12-G12 | I12: =3*C12+D12
A14: Örnek Takım | B14: =C14+D14+E14 | C14: 3 | D14: 1 | E14: 1 | F14: 12 | G14: 7 | H14: =F14-G14 | I14: =3*C14+D14 | J14: ← örnek satır: 3 galibiyet, 1 beraberlik, 1 mağlubiyet
A16: Puan: galibiyet 3, beraberlik 1, mağlubiyet 0. Eşitlikte sıra: averaj > atılan gol > ikili sonuç > penaltılar.
A17: Üç veya daha fazla takım eşitse yalnızca aralarındaki maçlardan mini puan tablosu yapılır.
